BEGIN:VCALENDAR
VERSION:2.0
PRODID:-//InvisionCommunity Events 5.0.10//EN
METHOD:PUBLISH
CALSCALE:GREGORIAN
REFRESH-INTERVAL:PT15M
X-PUBLISHED-TTL:PT15M
X-WR-CALNAME:All Calendars - Dekaron Rising - The Ultimate Dekaron Experi
	ence
NAME:All Calendars - Dekaron Rising - The Ultimate Dekaron Experi
	ence
BEGIN:VTIMEZONE
TZID:Europe/London
TZURL:https://tzurl.org/zoneinfo/Europe/London
X-LIC-LOCATION:Europe/London
BEGIN:DAYLIGHT
TZOFFSETFROM:+0000
TZOFFSETTO:+0100
TZNAME:BST
DTSTART:20230326T020000Z
RRULE:FREQ=YEARLY;BYMONTH=3;BYDAY=-1SU
END:DAYLIGHT
BEGIN:STANDARD
TZOFFSETFROM:+0100
TZOFFSETTO:+0000
TZNAME:GMT
DTSTART:20231029T020000Z
RRULE:FREQ=YEARLY;BYMONTH=10;BYDAY=-1SU
END:STANDARD
END:VTIMEZONE
BEGIN:VEVENT
SUMMARY:Dekaron Rising - Class vs Class Tournament
DTSTAMP:20231201T152625Z
SEQUENCE:0
UID:29-2-7e8371548aced045110720399ef3650e@dekaron-rising.com
ORGANIZER;CN="Sacra":noreply@dekaron-rising.com
DESCRIPTION:\n	\n		Warriors\, Welcome to the first ever Class vs. Class 
	Tournament on RisingA35\n	\n\n	\n		 \n	\n\n\n\n	\n		CLASS TOURNAMENT REGI
	STRATION:\n	\n\n	\n		To register\, reply in this thread with the following
	 format:\n	\n\n	\n		\n			IGN: BluesMuse\n		\n		\n			Class: Trie Muse\n		\n
			\n			Level: 230\n		\n	\n\n	\n		Note: You MUST apply to the link posted b
	y Nitex to join.\n\n		Registration Deadline: DECEMBER 15th\, 2023 [11:00 A
	M EST]\n	\n\n\n\n	\n		CLASS TOURNAMENT RULES:\n	\n\n	\n		\n			Entry Rounds
	: SINGLE ELIMINATION (win once to advance)\n		\n		\n			Semi-finals: SINGLE
	 ELIMINATION\n		\n		\n			Finals: Best of 3\n		\n		\n			Venue: All Matches 
	on Chain of Fire (DK Server)\n		\n		\n			Permitted: All candies\, buffs\, 
	and scrolls\n		\n	\n\n\n\n	\n		FAQs:\n	\n\n	\n		Q1: What if I get disconne
	cted/crashed and it's not my fault?\n	\n\n	\n		Getting disconnected for an
	y reason other than server issues that we can confirm will result in disqu
	alification. However\, if you are able to provide a screenshot of crashing
	/client bug and we can confirm it on the server side\, we may be able to r
	estart the match.\n	\n\n	\n		Q2: What if the other player is lagging?\n	\n
	\n	\n		This happens very rarely and cannot be taken into consideration. Pe
	ople can't influence their connections and they're not doing it to gain an
	 advantage. Also consider that their advantage can be your advantage too. 
	Matches may be held on an isolated channel to ensure best performance.\n	\
	n\n	\n		Q3: How many accounts can I apply with?\n	\n\n	\n		Register with T
	WO different classes maximum. More than two entries or piloting another us
	er's account will lead to disqualification.\n	\n\n	\n		Q4: What if a playe
	r is absent?\n	\n\n	\n		Matches will continue\, and absent players will be
	 disqualified after their round ends.\n	\n\n\n\n	\n		Dekaron Rising reserv
	es the right to make any changes to the prizes prior to the start of the e
	vent. Adjustments will be displayed here.\n	\n\n	\n		Q5: During the past P
	vP Events that was hosted by Eccle\, some classes like Half Bagi and Seg c
	an be drawn out until the end of the time limit (30 minutes). What should 
	we do?\n	\n\n	\n		\n			Every skill will be allowed in the first match\, bu
	t if it happens to be a draw\, we will remove a regeneration skill from ea
	ch class. (Example: Half Bagi's Vampire Dance\, Seg's Healing Moss\, and m
	uch more.)\n		\n		\n			Invisible skill of Concerra gives buff and it's onl
	y normal to use it. However\, if we find that it is being abused and just 
	being spammed just to prolong the pvp\, you will get one (1) warning befor
	e we disqualify you.\n		\n		\n			A buff may be casted on both fighters. Mo
	re details on this later\n		\n	\n\n	\n		 \n	\n\n\n\n	\n		CLASS TOURNAMENT
	 SCHEDULE:\n	\n\n	\n		\n			Day 1: December 16th\, 2023 (Saturday) - 9:00am
	 EST\n			\n				\n					Classes: Azure Knight\, Incar Magician\, Segita Hunt
	er\, Vicious Summoner\, Segnale\, Bagi Warrior\, Dragon Knight\n				\n			\
	n		\n		\n			Day 2: December 17th\, 2023 (Sunday) - 9:00am EST\n			\n				\n
						Classes: Trie Muse\, Shooter\, Dark Wizard\, Concerra\, Segeuripper\,
	 Half Bagi\, Aloken\n				\n			\n		\n	\n\n	\n		 \n	\n\n\n\n	\n		CLASS TOUR
	NAMENT PRIZES:\n	\n\n	\n		\n			1st Place Prize \n\n			\n				\n					Exclusi
	ve Class Champion wings\n				\n				\n					Exclusive Class Champion Weapon 
	Skin\n				\n				\n					Exclusive Title: \"Class Champion\"\n				\n				\n		
				15\,000 Coins\n				\n			\n		\n		\n			2nd Place Prize \n			\n				\n					
	10\,000 Coins\n				\n			\n		\n		\n			3rd Place Prize \n			\n				\n					5\,
	000 Coins\n				\n			\n		\n		\n			Participation Prizes \n			\n				\n					Sc
	roll Spins\, GP\, and more (finalized once we have the number of entries)\
	n				\n			\n		\n	\n\n	\n		 \n	\n\n	\n		\n	\n\n
DTSTART:20231216T000000Z
END:VEVENT
BEGIN:VEVENT
SUMMARY:jugaba ase años y perdi mi acc no se puede hacer algo para 
	recuperarla ?
DTSTAMP:20230407T004332Z
SEQUENCE:0
UID:28-1-7e8371548aced045110720399ef3650e@dekaron-rising.com
ORGANIZER;CN="saycano8885172":noreply@dekaron-rising.com
DESCRIPTION:\n	gracias por leeer\n\n\n\n	 \n\n
DTSTART:20230407T040000Z
RRULE:FREQ=DAILY;INTERVAL=1
END:VEVENT
BEGIN:VEVENT
SUMMARY:Ice Castle 1
DTSTAMP:20230108T020716Z
SEQUENCE:0
UID:13-1-7e8371548aced045110720399ef3650e@dekaron-rising.com
ORGANIZER;CN="Dekaron Rising":noreply@dekaron-rising.com
DESCRIPTION:\n	Ice Castle battle.\n\n
DTSTART:20230108T020000Z
RRULE:FREQ=DAILY;INTERVAL=1
END:VEVENT
BEGIN:VEVENT
SUMMARY:ZUTO Battle
DTSTAMP:20230114T003846Z
SEQUENCE:0
UID:18-1-7e8371548aced045110720399ef3650e@dekaron-rising.com
ORGANIZER;CN="Dekaron Rising":noreply@dekaron-rising.com
DESCRIPTION:\n	Zuto Battle\n\n	 \n\n\n\n	Entrance: Matao teleporter in 
	Ardeca\, third option.\n\n
DTSTART:20230115T150000Z
RRULE:FREQ=WEEKLY;INTERVAL=1;BYDAY=FR,SA
END:VEVENT
BEGIN:VEVENT
SUMMARY:Dead Front 4
DTSTAMP:20230321T055108Z
SEQUENCE:0
UID:27-1-7e8371548aced045110720399ef3650e@dekaron-rising.com
ORGANIZER;CN="Dekaron Rising":noreply@dekaron-rising.com
DESCRIPTION:\n	Dead Front battle occurs in Chain of Fire. DK Channel onl
	y.\n\n
DTSTART:20230321T010000Z
RRULE:FREQ=DAILY;INTERVAL=1
END:VEVENT
BEGIN:VEVENT
SUMMARY:Siege Battle
DTSTAMP:20230226T101634Z
SEQUENCE:0
UID:26-1-7e8371548aced045110720399ef3650e@dekaron-rising.com
ORGANIZER;CN="Dekaron Rising":noreply@dekaron-rising.com
DESCRIPTION:\n	Siege Battle (3 Castles)\n\n
DTSTART:20230226T150000Z
RRULE:FREQ=WEEKLY;INTERVAL=1;BYDAY=SU
END:VEVENT
BEGIN:VEVENT
SUMMARY:ZUTO Battle
DTSTAMP:20230225T025322Z
SEQUENCE:0
UID:25-1-7e8371548aced045110720399ef3650e@dekaron-rising.com
ORGANIZER;CN="Dekaron Rising":noreply@dekaron-rising.com
DESCRIPTION:\n	Zuto Battle\n\n	 \n\n\n\n	Entrance: Matao teleporter in 
	Ardeca\, third option.\n\n
DTSTART:20230225T090000Z
RRULE:FREQ=WEEKLY;INTERVAL=1;BYDAY=FR,SA
END:VEVENT
BEGIN:VEVENT
SUMMARY:Draco Battle 2
DTSTAMP:20230118T143007Z
SEQUENCE:0
UID:21-1-7e8371548aced045110720399ef3650e@dekaron-rising.com
ORGANIZER;CN="Dekaron Rising":noreply@dekaron-rising.com
DESCRIPTION:\n	Draco Battle occurs every day at 10:00 UTC and 22:00 UTC.
	 Entrance in Ardeca near Makaio. \n\n
DTSTART:20230118T220000Z
RRULE:FREQ=DAILY;INTERVAL=1
END:VEVENT
BEGIN:VEVENT
SUMMARY:Draco Battle 1
DTSTAMP:20230118T142944Z
SEQUENCE:0
UID:20-1-7e8371548aced045110720399ef3650e@dekaron-rising.com
ORGANIZER;CN="Dekaron Rising":noreply@dekaron-rising.com
DESCRIPTION:\n	Draco Battle occurs every day at 10:00 UTC and 22:00 UTC.
	 Entrance in Ardeca near Makaio. \n\n
DTSTART:20230118T100000Z
RRULE:FREQ=DAILY;INTERVAL=1
END:VEVENT
BEGIN:VEVENT
SUMMARY:Deadland 1
DTSTAMP:20230108T015455Z
SEQUENCE:0
UID:10-1-7e8371548aced045110720399ef3650e@dekaron-rising.com
ORGANIZER;CN="Dekaron Rising":noreply@dekaron-rising.com
DESCRIPTION:\n	Map event in Deadlands map.\n\n
DTSTART:20230108T070000Z
RRULE:FREQ=DAILY;INTERVAL=1
END:VEVENT
BEGIN:VEVENT
SUMMARY:Ice Castle 3
DTSTAMP:20230108T020746Z
SEQUENCE:0
UID:15-1-7e8371548aced045110720399ef3650e@dekaron-rising.com
ORGANIZER;CN="Dekaron Rising":noreply@dekaron-rising.com
DESCRIPTION:\n	Ice Castle battle.\n\n
DTSTART:20230108T180000Z
RRULE:FREQ=DAILY;INTERVAL=1
END:VEVENT
BEGIN:VEVENT
SUMMARY:Ice Castle 2
DTSTAMP:20230108T020732Z
SEQUENCE:0
UID:14-1-7e8371548aced045110720399ef3650e@dekaron-rising.com
ORGANIZER;CN="Dekaron Rising":noreply@dekaron-rising.com
DESCRIPTION:\n	Ice Castle battle.\n\n
DTSTART:20230108T130000Z
RRULE:FREQ=DAILY;INTERVAL=1
END:VEVENT
BEGIN:VEVENT
SUMMARY:Deadland 3
DTSTAMP:20230108T015601Z
SEQUENCE:0
UID:12-1-7e8371548aced045110720399ef3650e@dekaron-rising.com
ORGANIZER;CN="Dekaron Rising":noreply@dekaron-rising.com
DESCRIPTION:\n	Map event in Deadlands map.\n\n
DTSTART:20230108T230000Z
RRULE:FREQ=DAILY;INTERVAL=1
END:VEVENT
BEGIN:VEVENT
SUMMARY:Deadland 2
DTSTAMP:20230108T015534Z
SEQUENCE:0
UID:11-1-7e8371548aced045110720399ef3650e@dekaron-rising.com
ORGANIZER;CN="Dekaron Rising":noreply@dekaron-rising.com
DESCRIPTION:\n	Map event in Deadlands map.\n\n
DTSTART:20230108T140000Z
RRULE:FREQ=DAILY;INTERVAL=1
END:VEVENT
BEGIN:VEVENT
SUMMARY:Elonohm 1
DTSTAMP:20230108T013145Z
SEQUENCE:0
UID:7-1-7e8371548aced045110720399ef3650e@dekaron-rising.com
ORGANIZER;CN="Dekaron Rising":noreply@dekaron-rising.com
DESCRIPTION:\n	Elonohm map event\n\n
DTSTART:20230109T000000Z
RRULE:FREQ=DAILY;INTERVAL=1
END:VEVENT
BEGIN:VEVENT
SUMMARY:Dead Front 3
DTSTAMP:20230107T185123Z
SEQUENCE:0
UID:3-1-7e8371548aced045110720399ef3650e@dekaron-rising.com
ORGANIZER;CN="Dekaron Rising":noreply@dekaron-rising.com
DESCRIPTION:\n	Dead Front battle occurs in Chain of Fire. DK Channel onl
	y.\n\n
DTSTART:20230108T220000Z
RRULE:FREQ=DAILY;INTERVAL=1
END:VEVENT
BEGIN:VEVENT
SUMMARY:Elonohm 2
DTSTAMP:20230108T013233Z
SEQUENCE:0
UID:8-1-7e8371548aced045110720399ef3650e@dekaron-rising.com
ORGANIZER;CN="Dekaron Rising":noreply@dekaron-rising.com
DESCRIPTION:\n	Elonohm map event\n\n
DTSTART:20230108T200000Z
RRULE:FREQ=DAILY;INTERVAL=1
END:VEVENT
BEGIN:VEVENT
SUMMARY:Elonohm 3
DTSTAMP:20230108T013306Z
SEQUENCE:0
UID:9-1-7e8371548aced045110720399ef3650e@dekaron-rising.com
ORGANIZER;CN="Dekaron Rising":noreply@dekaron-rising.com
DESCRIPTION:\n	Elonohm map event\n\n
DTSTART:20230108T160000Z
RRULE:FREQ=DAILY;INTERVAL=1
END:VEVENT
BEGIN:VEVENT
SUMMARY:Dead Front 2
DTSTAMP:20230107T185057Z
SEQUENCE:0
UID:2-1-7e8371548aced045110720399ef3650e@dekaron-rising.com
ORGANIZER;CN="Dekaron Rising":noreply@dekaron-rising.com
DESCRIPTION:\n	Dead Front battle occurs in Chain of Fire. DK Channel onl
	y.\n\n
DTSTART:20230108T150000Z
RRULE:FREQ=DAILY;INTERVAL=1
END:VEVENT
BEGIN:VEVENT
SUMMARY:Dead Front 1
DTSTAMP:20230107T185000Z
SEQUENCE:0
UID:1-1-7e8371548aced045110720399ef3650e@dekaron-rising.com
ORGANIZER;CN="Dekaron Rising":noreply@dekaron-rising.com
DESCRIPTION:\n	Dead Front battle occurs in Chain of Fire. DK Channel onl
	y.\n\n
DTSTART:20230108T110000Z
RRULE:FREQ=DAILY;INTERVAL=1
END:VEVENT
END:VCALENDAR
